BEGIN:VCALENDAR
VERSION:2.0
PRODID:-//Jana Engels - ECPv6.15.20//NONSGML v1.0//EN
CALSCALE:GREGORIAN
METHOD:PUBLISH
X-WR-CALNAME:Jana Engels
X-ORIGINAL-URL:https://jana-engels.de
X-WR-CALDESC:Veranstaltungen für Jana Engels
REFRESH-INTERVAL;VALUE=DURATION:PT1H
X-Robots-Tag:noindex
X-PUBLISHED-TTL:PT1H
BEGIN:VTIMEZONE
TZID:Europe/Berlin
BEGIN:DAYLIGHT
TZOFFSETFROM:+0100
TZOFFSETTO:+0200
TZNAME:CEST
DTSTART:20250330T010000
END:DAYLIGHT
BEGIN:STANDARD
TZOFFSETFROM:+0200
TZOFFSETTO:+0100
TZNAME:CET
DTSTART:20251026T010000
END:STANDARD
BEGIN:DAYLIGHT
TZOFFSETFROM:+0100
TZOFFSETTO:+0200
TZNAME:CEST
DTSTART:20260329T010000
END:DAYLIGHT
BEGIN:STANDARD
TZOFFSETFROM:+0200
TZOFFSETTO:+0100
TZNAME:CET
DTSTART:20261025T010000
END:STANDARD
BEGIN:DAYLIGHT
TZOFFSETFROM:+0100
TZOFFSETTO:+0200
TZNAME:CEST
DTSTART:20270328T010000
END:DAYLIGHT
BEGIN:STANDARD
TZOFFSETFROM:+0200
TZOFFSETTO:+0100
TZNAME:CET
DTSTART:20271031T010000
END:STANDARD
END:VTIMEZONE
BEGIN:VEVENT
DTSTART;VALUE=DATE:20260919
DTEND;VALUE=DATE:20260920
DTSTAMP:20260420T083804
CREATED:20260116T121807Z
LAST-MODIFIED:20260116T121807Z
UID:4071-1789776000-1789862399@jana-engels.de
SUMMARY:Mitgliederversammlung 2026 des VS NRW
DESCRIPTION:Einmal im Jahr findet die Mitgliederversammlung des Landesverbands des Verbands deutscher Schriftstellerinnen und Schriftsteller (VS in ver.di) in NRW statt.\nIn diesem Jahr finden zudem wieder Vorstandswahlen statt. Für mich bedeutet das zunächst einmal\, dass dann eine Amtszeit im Vorstandsgremium und als Vorsitzende vorüber ist.\nFür eine zweite Amtszeit werde ich mich zur Verfügung stellen. Wir werden sehen\, was kommt. Die Veranstaltung ist nicht öffentlich.
URL:https://jana-engels.de/event/mitgliederversammlung-2026-des-vs-nrw/
LOCATION:Düsseldorf
CATEGORIES:Vereins- und Verbandsarbeit
ATTACH;FMTTYPE=image/jpeg:https://jana-engels.de/wp-content/uploads/2026/01/VSNRW_Landesverband_Logo.jpg
END:VEVENT
END:VCALENDAR