BEGIN:VCALENDAR
VERSION:2.0
PRODID:-//Jana Engels - ECPv6.15.20//NONSGML v1.0//EN
CALSCALE:GREGORIAN
METHOD:PUBLISH
X-ORIGINAL-URL:https://jana-engels.de
X-WR-CALDESC:Veranstaltungen für Jana Engels
REFRESH-INTERVAL;VALUE=DURATION:PT1H
X-Robots-Tag:noindex
X-PUBLISHED-TTL:PT1H
BEGIN:VTIMEZONE
TZID:Europe/Berlin
BEGIN:DAYLIGHT
TZOFFSETFROM:+0100
TZOFFSETTO:+0200
TZNAME:CEST
DTSTART:20250330T010000
END:DAYLIGHT
BEGIN:STANDARD
TZOFFSETFROM:+0200
TZOFFSETTO:+0100
TZNAME:CET
DTSTART:20251026T010000
END:STANDARD
BEGIN:DAYLIGHT
TZOFFSETFROM:+0100
TZOFFSETTO:+0200
TZNAME:CEST
DTSTART:20260329T010000
END:DAYLIGHT
BEGIN:STANDARD
TZOFFSETFROM:+0200
TZOFFSETTO:+0100
TZNAME:CET
DTSTART:20261025T010000
END:STANDARD
BEGIN:DAYLIGHT
TZOFFSETFROM:+0100
TZOFFSETTO:+0200
TZNAME:CEST
DTSTART:20270328T010000
END:DAYLIGHT
BEGIN:STANDARD
TZOFFSETFROM:+0200
TZOFFSETTO:+0100
TZNAME:CET
DTSTART:20271031T010000
END:STANDARD
END:VTIMEZONE
BEGIN:VEVENT
DTSTART;TZID=Europe/Berlin:20260321T160000
DTEND;TZID=Europe/Berlin:20260321T163000
DTSTAMP:20260420T042536
CREATED:20260316T224612Z
LAST-MODIFIED:20260316T224754Z
UID:4186-1774108800-1774110600@jana-engels.de
SUMMARY:Wann müssen Autor*innen betteln gehen?
DESCRIPTION:Die wirtschaftliche Lage von Autor*innen kann eigentlich nicht mal mehr prekär genannt werden. Oder jammern Schriftsteller*innen auf hohem Niveau. Die Diskussion um die Honorarsituation von Autor*innen versucht Licht ins Dunkel zu bringen. \nSa. 21. März\n16:00 – 16:30 Uhr\nFachforum + (Halle 5\, G511) \nVeranstalter: VS Verband Deutscher Schriftstellerinnnen und Schriftsteller in ver.di\nGäste: Diana Menschig\, Arwed Vogel\nModeration: Jana Engels
URL:https://jana-engels.de/event/wann-muessen-autorinnen-betteln-gehen/
LOCATION:Leipziger Buchmesse\, Messe\, Leipzig
CATEGORIES:Buchmesse
ATTACH;FMTTYPE=image/jpeg:https://jana-engels.de/wp-content/uploads/2026/01/lbm-key-1920x1080px_16_9_m-2.jpg
END:VEVENT
END:VCALENDAR