BEGIN:VCALENDAR
VERSION:2.0
PRODID:-//Jana Engels - ECPv6.15.20//NONSGML v1.0//EN
CALSCALE:GREGORIAN
METHOD:PUBLISH
X-ORIGINAL-URL:https://jana-engels.de
X-WR-CALDESC:Veranstaltungen für Jana Engels
REFRESH-INTERVAL;VALUE=DURATION:PT1H
X-Robots-Tag:noindex
X-PUBLISHED-TTL:PT1H
BEGIN:VTIMEZONE
TZID:Europe/Berlin
BEGIN:DAYLIGHT
TZOFFSETFROM:+0100
TZOFFSETTO:+0200
TZNAME:CEST
DTSTART:20250330T010000
END:DAYLIGHT
BEGIN:STANDARD
TZOFFSETFROM:+0200
TZOFFSETTO:+0100
TZNAME:CET
DTSTART:20251026T010000
END:STANDARD
BEGIN:DAYLIGHT
TZOFFSETFROM:+0100
TZOFFSETTO:+0200
TZNAME:CEST
DTSTART:20260329T010000
END:DAYLIGHT
BEGIN:STANDARD
TZOFFSETFROM:+0200
TZOFFSETTO:+0100
TZNAME:CET
DTSTART:20261025T010000
END:STANDARD
BEGIN:DAYLIGHT
TZOFFSETFROM:+0100
TZOFFSETTO:+0200
TZNAME:CEST
DTSTART:20270328T010000
END:DAYLIGHT
BEGIN:STANDARD
TZOFFSETFROM:+0200
TZOFFSETTO:+0100
TZNAME:CET
DTSTART:20271031T010000
END:STANDARD
END:VTIMEZONE
BEGIN:VEVENT
DTSTART;TZID=Europe/Berlin:20260306T184500
DTEND;TZID=Europe/Berlin:20260306T203000
DTSTAMP:20260421T150114
CREATED:20260115T131331Z
LAST-MODIFIED:20260213T212932Z
UID:4033-1772822700-1772829000@jana-engels.de
SUMMARY:Lesung „Das Vermächtnis der Gelloncourts“
DESCRIPTION:Lesung aus dem Familiengeheimnisroman\n„Das Vermächtnis der Gellencourts“ \nFür Isabelle Mechant bricht eine Welt zusammen: Ihr langjähriger Freund verlässt sie ohne Vorwarnung und auch ihr beruflicher Lebenstraum\, ein eigenes Café zu eröffnen\, zerplatzt\, nachdem die Bank ihre Kreditzusage zurückzieht. Als plötzlich ein Brief aus Frankreich eintrifft\, der ihre Mutter über eine geheimnisvolle Erbschaft informiert\, zögert Isabelle nicht lange. In der Hoffnung\, dem Chaos ihres Lebens zu entkommen\, macht sich Isabelle auf nach Lothringen. Doch als sie auf dem prachtvollen Landsitz der angesehenen Familie Gelloncourt de Lorraine ankommt\, stößt sie auf Ablehnung – vor allem von Paul\, dem Erben der Familie\, der sie lieber heute als morgen wieder loswerden will. Während Isabelle versucht\, die Geheimnisse ihrer Vergangenheit zu entschlüsseln\, entdeckt sie nicht nur ein lange verborgenes Familiengeheimnis\, sondern auch unerwartete Gefühle. Schon bald wird klar: Dieses Erbe könnte alles in ihrem Leben verändern – auch ihr Herz … \nKartenvorverkauf im dreifachwerk.de\nSelmenstraße 17\, 53881 Euskirchen-Stotzheim
URL:https://jana-engels.de/event/das-vermaechtnis-der-gellencourts/
LOCATION:Dreifachwerk\, Selmenstraße 17\, 53881 Euskirchen-Stotzheim\, Nordrhein-Westfalen\, Germany
CATEGORIES:Lesung
ATTACH;FMTTYPE=image/jpeg:https://jana-engels.de/wp-content/uploads/2025/02/Facebook_9783989988637.jpg
ORGANIZER;CN="Dreifachwerk":MAILTO:info@dreifachwerk.de
END:VEVENT
BEGIN:VEVENT
DTSTART;TZID=Europe/Berlin:20260319T100000
DTEND;TZID=Europe/Berlin:20260322T180000
DTSTAMP:20260421T150114
CREATED:20260115T200357Z
LAST-MODIFIED:20260312T172724Z
UID:4046-1773914400-1774202400@jana-engels.de
SUMMARY:Leipziger Buchmesse: Lesen ist Teilhabe ist Demokratie
DESCRIPTION:Lesen ist Teilhabe ist Demokratie \nFreitag\, 20.03. um 11.30 Uhr Forum Sachbuch: Horizonte \nLesen ist Voraussetzung für Bildung\, Selbstbestimmung und demokratische Teilhabe. Trotzdem sinkt die Lesekompetenz in Deutschland weiterhin dramatisch. Studien belegen\, dass jedes vierte Kind nicht sinnentnehmend lesen kann. Gleichzeitig drängen KI generierte Texte auf den Markt\, oft ohne pädagogische Qualität\, literarische Tiefe oder ethische Transparenz. Was bedeutet das für die Leseförderung und für Menschen im Literaturbetrieb\, deren Arbeit entwertet wird? Und was bedeutet das für unsere Demokratie? \n  \nMitwirkende \nJana Engels ist Autorin und Literaturpädagogin. Sie engagiert sich seit vielen Jahren in der Lese und Schreibförderung und verbindet literarische Praxis mit pädagogischer Expertise. Als stellvertretende Bundesvorsitzende des Verbands deutscher Schriftstellerinnen und Schriftsteller setzt sie sich für die Bedeutung von Literatur und Lesekompetenz in einer demokratischen Gesellschaft ein. \nManuela Hantschel ist Pädagogin und Vorsitzende des Bundesverbands Leseförderung. Sie arbeitet bundesweit an Konzepten und Qualitätsstandards für professionelle Leseförderung und kennt die strukturellen Herausforderungen in Bildungseinrichtungen aus der täglichen Praxis. \nPia Löber Wille ist Literaturpädagogin und Referentin für frühkindliche Leseförderung. Mit ihren kreativen Formaten begeistert sie Kinder\, Familien und pädagogische Fachkräfte für Sprache und Geschichten und zeigt\, wie wichtig frühe Literacy Erfahrungen für die spätere Bildung sind. \nRegina Schleheck ist pensionierte Oberstudienrätin und Autorin. Sie findet: Erwerb von Lesekompetenz ist ein wichtiger Baustein der Befähigung zu Kommunikation und Reflexion\, zu respektvollem Austausch und gesellschaftlicher Teilhabe. Aber sie ist weder alleinseligmachendes Mittel noch Demokratiegarant\, darf sich nicht etwa auf die Befähigung zum Lesen von Social-Media-Posts beschränken\, sondern muss eingebunden werden in eine vielfältige Kultur des Miteinanders. \n  \nForum Sachbuch: Horizonte  (Halle 2\, D609)
URL:https://jana-engels.de/event/meet-greet-im-rahmen-der-leipziger-buchmesse/
LOCATION:Nordrhein-Westfalen
CATEGORIES:Buchmesse
ATTACH;FMTTYPE=image/png:https://jana-engels.de/wp-content/uploads/2026/01/LiTiD_VS_BVL_LBM2026_1.png
END:VEVENT
BEGIN:VEVENT
DTSTART;TZID=Europe/Berlin:20260331T130000
DTEND;TZID=Europe/Berlin:20260331T160000
DTSTAMP:20260421T150114
CREATED:20260119T145718Z
LAST-MODIFIED:20260211T093958Z
UID:4090-1774962000-1774972800@jana-engels.de
SUMMARY:Osterferienprogramm - Schreibwerkstatt in der Bibliothek Kall (2/6)
DESCRIPTION:In den Osterferien lädt die Bibliothek Kall zu einem fröhlichen und kreativen Ferienangebot ein. Kinder und Jugendliche zwischen 8 und 14 Jahren können in einer lebendigen Schreibwerkstatt ihrer Fantasie freien Lauf lassen. Gemeinsam mit der Schriftstellerin Jana Engels entstehen spielerisch Geschichten\, überraschende Gedichte und kleine Textabenteuer. Es wird ausprobiert\, gelacht und erfunden. Langweilig wird es garantiert nicht. Zwischendurch sorgen kurze Spiele für Abwechslung und gute Stimmung.\nAm letzten Tag gibt es eine gemütliche Abschlussrunde\, in der die Teilnehmenden ihre Texte Freunden und Familien präsentieren dürfen. \nMitzubringen: Schreibutensilien\, etwas Verpflegung nach Bedarf und natürlich gute Laune! \nTermine: \n30.03.2026\, 13.00–16.00 Uhr\, Schreibwerkstatt (1/6) \n31.03.2026\, 13.00–16.00 Uhr\, Schreibwerkstatt (2/6) \n01.04.2026\, 13.00–16.00 Uhr\, Schreibwerkstatt (3/6) \n02.04.2026\, 13.00–16.00 Uhr\, Schreibwerkstatt (4/6) \n07.04.2026\, 13.00–16.00 Uhr\, Schreibwerkstatt (5/6) \n10.04.2026\, 14.30–16.00 Uhr\, Schreibwerkstatt (Abschluss 6/6) \nOrt: Bibliothek Kall\, Bahnhofstraße 11\, 53925 Kall \nTeilnahmebeitrag: 10\,- Euro \nAnmeldung: 02441 / 779552\,  bibliothek@kall.de oder direkt in der Bibliothek \n  \nDiese Werkstatt wird gefördert vom Ministerium für Kultur und Wissenschaft des Landes Nordrhein-Westfalen im Rahmen von SchreibLand NRW\, einer Initiative des Literaturbüros NRW\, unterstützt vom Verband der Bibliotheken NRW.
URL:https://jana-engels.de/event/osterferienprogramm-schreibwerkstatt-in-der-bibliothek-kall-2-6/
LOCATION:Bibliothek Kall im Haus d. Begegnung\, Bahnhofstr. 11\, 53925 Kall\, Kall\, Nordrhein-Westfalen\, 53925\, Germany
CATEGORIES:Lese- und Literaturpädagogik,Schreibwerkstatt
ATTACH;FMTTYPE=image/png:https://jana-engels.de/wp-content/uploads/2026/02/Folie4.png
ORGANIZER;CN="Bibliothek Kall":MAILTO:bibliothek@kall.de
END:VEVENT
END:VCALENDAR