BEGIN:VCALENDAR
VERSION:2.0
PRODID:-//Jana Engels - ECPv6.15.20//NONSGML v1.0//EN
CALSCALE:GREGORIAN
METHOD:PUBLISH
X-WR-CALNAME:Jana Engels
X-ORIGINAL-URL:https://jana-engels.de
X-WR-CALDESC:Veranstaltungen für Jana Engels
REFRESH-INTERVAL;VALUE=DURATION:PT1H
X-Robots-Tag:noindex
X-PUBLISHED-TTL:PT1H
BEGIN:VTIMEZONE
TZID:Europe/Berlin
BEGIN:DAYLIGHT
TZOFFSETFROM:+0100
TZOFFSETTO:+0200
TZNAME:CEST
DTSTART:20250330T010000
END:DAYLIGHT
BEGIN:STANDARD
TZOFFSETFROM:+0200
TZOFFSETTO:+0100
TZNAME:CET
DTSTART:20251026T010000
END:STANDARD
BEGIN:DAYLIGHT
TZOFFSETFROM:+0100
TZOFFSETTO:+0200
TZNAME:CEST
DTSTART:20260329T010000
END:DAYLIGHT
BEGIN:STANDARD
TZOFFSETFROM:+0200
TZOFFSETTO:+0100
TZNAME:CET
DTSTART:20261025T010000
END:STANDARD
BEGIN:DAYLIGHT
TZOFFSETFROM:+0100
TZOFFSETTO:+0200
TZNAME:CEST
DTSTART:20270328T010000
END:DAYLIGHT
BEGIN:STANDARD
TZOFFSETFROM:+0200
TZOFFSETTO:+0100
TZNAME:CET
DTSTART:20271031T010000
END:STANDARD
END:VTIMEZONE
BEGIN:VEVENT
DTSTART;TZID=Europe/Berlin:20260926T100000
DTEND;TZID=Europe/Berlin:20260926T170000
DTSTAMP:20260420T082633
CREATED:20260226T172353Z
LAST-MODIFIED:20260226T172353Z
UID:4155-1790416800-1790442000@jana-engels.de
SUMMARY:Ein Roman - von der Idee zum Plot (1/2)
DESCRIPTION:Schreibworkshop: Von der Romanidee zum tragfähigen Plot \nViele Menschen tragen eine Romanidee in sich\, doch oft fehlt der entscheidende Impuls\, um daraus eine echte Geschichte zu formen. Ein neuer Workshop in Blankenheim bietet nun genau diese Starthilfe. \nUnter dem Titel „Ein Roman – von der Idee zum Plot“ begleitet die Schriftstellerin und Literaturpädagogin  Jana Engels kreative Erwachsene dabei\, ihr eigenes Romanprojekt strukturiert zu entwickeln. \nIn einer kleinen Gruppe von 4-10 Teilnehmenden arbeiten die Schreibinteressierten an zwei intensiven Workshoptagen an ihren eigenen Ideen. Gemeinsam werden Figuren ausgearbeitet\, Handlungsstränge entwickelt und dramaturgische Grundlagen vermittelt. Ziel ist es\, am Ende ein professionelles Exposé inklusive erster Leseprobe in den Händen zu halten\, welches Grundlage für das spätere Schreiben und eine mögliche Bewerbung bei Verlagen oder Literaturagenturen ist. \n„Im Workshop schaffen wir den Raum\, kreative Ideen aufzugreifen und Schritt für Schritt in eine tragfähige Form zu bringen.“ Neben fachlichem Input gibt es viel Zeit für praktische Übungen und individuelles Feedback. Für die Arbeit am eigenen Text wird ein Laptop oder ein vergleichbares Schreibgerät benötigt. \nDer Workshop richtet sich an alle\, die eine Romanidee mit sich herumtragen und ihr endlich Raum geben möchten. Dabei ist es gleich\, ob bereits erste Notizen existieren oder die Geschichte bisher nur im Kopf lebt. \nDatum: 26. und 27. September 2026 \nAnmeldung: Gemeinde Blankenheim\, Telefon: 02449/911725\, E-Mail: buecherei(@)blankenheim.de\n(Ansprechperson Fr. Karschat-Effertz) \nGesamtkosten für beide Tage: 180\,- Euro / TN
URL:https://jana-engels.de/event/ein-roman-von-der-idee-zum-plot-1-2/
LOCATION:Gemeindebücherei Blankenheim\, Ahrstraße 67\, Blankenheim\, 53945
CATEGORIES:Lese- und Literaturpädagogik,Schreibwerkstatt
ATTACH;FMTTYPE=image/png:https://jana-engels.de/wp-content/uploads/2026/02/BannerEventRomanPlot.png
ORGANIZER;CN="Gemeinde Blankenheim":MAILTO:touristinfo@blankenheim.de
END:VEVENT
END:VCALENDAR