BEGIN:VCALENDAR
VERSION:2.0
PRODID:-//Jana Engels - ECPv6.15.20//NONSGML v1.0//EN
CALSCALE:GREGORIAN
METHOD:PUBLISH
X-WR-CALNAME:Jana Engels
X-ORIGINAL-URL:https://jana-engels.de
X-WR-CALDESC:Veranstaltungen für Jana Engels
REFRESH-INTERVAL;VALUE=DURATION:PT1H
X-Robots-Tag:noindex
X-PUBLISHED-TTL:PT1H
BEGIN:VTIMEZONE
TZID:Europe/Berlin
BEGIN:DAYLIGHT
TZOFFSETFROM:+0100
TZOFFSETTO:+0200
TZNAME:CEST
DTSTART:20250330T010000
END:DAYLIGHT
BEGIN:STANDARD
TZOFFSETFROM:+0200
TZOFFSETTO:+0100
TZNAME:CET
DTSTART:20251026T010000
END:STANDARD
BEGIN:DAYLIGHT
TZOFFSETFROM:+0100
TZOFFSETTO:+0200
TZNAME:CEST
DTSTART:20260329T010000
END:DAYLIGHT
BEGIN:STANDARD
TZOFFSETFROM:+0200
TZOFFSETTO:+0100
TZNAME:CET
DTSTART:20261025T010000
END:STANDARD
BEGIN:DAYLIGHT
TZOFFSETFROM:+0100
TZOFFSETTO:+0200
TZNAME:CEST
DTSTART:20270328T010000
END:DAYLIGHT
BEGIN:STANDARD
TZOFFSETFROM:+0200
TZOFFSETTO:+0100
TZNAME:CET
DTSTART:20271031T010000
END:STANDARD
END:VTIMEZONE
BEGIN:VEVENT
DTSTART;TZID=Europe/Berlin:20261019T100000
DTEND;TZID=Europe/Berlin:20261019T130000
DTSTAMP:20260423T134427
CREATED:20260210T101510Z
LAST-MODIFIED:20260211T093357Z
UID:4101-1792404000-1792414800@jana-engels.de
SUMMARY:Geschichten lebendig werden lassen - Schreibwerkstatt in den Herbstferien (1/6)
DESCRIPTION:In den Herbstferien lädt die Gemeinde Blankenheim zu einem fröhlichen und kreativen Ferienangebot ein. Kinder und Jugendliche zwischen 8 und 14 Jahren können in einer lebendigen Geschichtenwerkstatt ihrer Fantasie freien Lauf lassen. Gemeinsam mit der Schriftstellerin Jana Engels erfinden wir spannende Figuren\, überraschende Wendungen und kleine Abenteuer – und verwandeln diese Geschichten anschließend in kurze Drehbücher.\nMit viel Spaß\, Teamgeist und einer Portion Mut zum Ausprobieren setzen wir unsere Ideen in kleine Kurzfilme um. Zwischendurch sorgen kurze Spiele für Bewegung\, Abwechslung und gute Stimmung. Langweilig wird es garantiert nicht.\nAm letzten Tag feiern wir eine gemütliche Abschlussrunde\, in der die Teilnehmenden ihre Geschichten und Mini-Filme Freunden und Familien präsentieren dürfen. \nMitzubringen: Schreibutensilien\, etwas Verpflegung nach Bedarf – und natürlich gute Laune! \nWir treffen uns an fünf Vormittagen von jeweils 10 – 13 Uhr. \nAnmeldungen an: touristinfo@blankenheim.de oder 02449 87 223
URL:https://jana-engels.de/event/eschichten-lebendig-werden-lassen-schreibwerkstatt-in-den-herbstferien-1-6/
LOCATION:Gemeindebücherei Blankenheim\, Ahrstraße 67\, Blankenheim\, 53945
CATEGORIES:Lese- und Literaturpädagogik,Schreibwerkstatt
ATTACH;FMTTYPE=image/png:https://jana-engels.de/wp-content/uploads/2026/02/Folie5.png
ORGANIZER;CN="Gemeinde Blankenheim":MAILTO:touristinfo@blankenheim.de
END:VEVENT
BEGIN:VEVENT
DTSTART;TZID=Europe/Berlin:20261020T100000
DTEND;TZID=Europe/Berlin:20261020T130000
DTSTAMP:20260423T134427
CREATED:20260210T101939Z
LAST-MODIFIED:20260211T093332Z
UID:4106-1792490400-1792501200@jana-engels.de
SUMMARY:Geschichten lebendig werden lassen - Schreibwerkstatt in den Herbstferien (2/6)
DESCRIPTION:In den Herbstferien lädt die Gemeinde Blankenheim zu einem fröhlichen und kreativen Ferienangebot ein. Kinder und Jugendliche zwischen 8 und 14 Jahren können in einer lebendigen Geschichtenwerkstatt ihrer Fantasie freien Lauf lassen. Gemeinsam mit der Schriftstellerin Jana Engels erfinden wir spannende Figuren\, überraschende Wendungen und kleine Abenteuer – und verwandeln diese Geschichten anschließend in kurze Drehbücher.\nMit viel Spaß\, Teamgeist und einer Portion Mut zum Ausprobieren setzen wir unsere Ideen in kleine Kurzfilme um. Zwischendurch sorgen kurze Spiele für Bewegung\, Abwechslung und gute Stimmung. Langweilig wird es garantiert nicht.\nAm letzten Tag feiern wir eine gemütliche Abschlussrunde\, in der die Teilnehmenden ihre Geschichten und Mini-Filme Freunden und Familien präsentieren dürfen. \nMitzubringen: Schreibutensilien\, etwas Verpflegung nach Bedarf – und natürlich gute Laune! \nWir treffen uns an fünf Vormittagen von jeweils 10 – 13 Uhr. \nAnmeldungen an: touristinfo@blankenheim.de oder 02449 87 223
URL:https://jana-engels.de/event/geschichten-lebendig-werden-lassen-schreibwerkstatt-in-den-herbstferien-2-6/
LOCATION:Gemeindebücherei Blankenheim\, Ahrstraße 67\, Blankenheim\, 53945
CATEGORIES:Lese- und Literaturpädagogik,Schreibwerkstatt
ATTACH;FMTTYPE=image/png:https://jana-engels.de/wp-content/uploads/2026/02/Folie5.png
ORGANIZER;CN="Gemeinde Blankenheim":MAILTO:touristinfo@blankenheim.de
END:VEVENT
BEGIN:VEVENT
DTSTART;TZID=Europe/Berlin:20261021T100000
DTEND;TZID=Europe/Berlin:20261021T130000
DTSTAMP:20260423T134427
CREATED:20260210T102232Z
LAST-MODIFIED:20260211T093301Z
UID:4108-1792576800-1792587600@jana-engels.de
SUMMARY:Geschichten lebendig werden lassen - Schreibwerkstatt in den Herbstferien (3/6)
DESCRIPTION:In den Herbstferien lädt die Gemeinde Blankenheim zu einem fröhlichen und kreativen Ferienangebot ein. Kinder und Jugendliche zwischen 8 und 14 Jahren können in einer lebendigen Geschichtenwerkstatt ihrer Fantasie freien Lauf lassen. Gemeinsam mit der Schriftstellerin Jana Engels erfinden wir spannende Figuren\, überraschende Wendungen und kleine Abenteuer – und verwandeln diese Geschichten anschließend in kurze Drehbücher.\nMit viel Spaß\, Teamgeist und einer Portion Mut zum Ausprobieren setzen wir unsere Ideen in kleine Kurzfilme um. Zwischendurch sorgen kurze Spiele für Bewegung\, Abwechslung und gute Stimmung. Langweilig wird es garantiert nicht.\nAm letzten Tag feiern wir eine gemütliche Abschlussrunde\, in der die Teilnehmenden ihre Geschichten und Mini-Filme Freunden und Familien präsentieren dürfen. \nMitzubringen: Schreibutensilien\, etwas Verpflegung nach Bedarf – und natürlich gute Laune! \nWir treffen uns an fünf Vormittagen von jeweils 10 – 13 Uhr. \nAnmeldungen an: touristinfo@blankenheim.de oder 02449 87 223
URL:https://jana-engels.de/event/geschichten-lebendig-werden-lassen-schreibwerkstatt-in-den-herbstferien-3-6/
LOCATION:Gemeindebücherei Blankenheim\, Ahrstraße 67\, Blankenheim\, 53945
CATEGORIES:Lese- und Literaturpädagogik,Schreibwerkstatt
ATTACH;FMTTYPE=image/png:https://jana-engels.de/wp-content/uploads/2026/02/Folie5.png
ORGANIZER;CN="Gemeinde Blankenheim":MAILTO:touristinfo@blankenheim.de
END:VEVENT
BEGIN:VEVENT
DTSTART;TZID=Europe/Berlin:20261022T100000
DTEND;TZID=Europe/Berlin:20261022T130000
DTSTAMP:20260423T134427
CREATED:20260210T102951Z
LAST-MODIFIED:20260211T093226Z
UID:4110-1792663200-1792674000@jana-engels.de
SUMMARY:Geschichten lebendig werden lassen - Schreibwerkstatt in den Herbstferien (4/6)
DESCRIPTION:In den Herbstferien lädt die Gemeinde Blankenheim zu einem fröhlichen und kreativen Ferienangebot ein. Kinder und Jugendliche zwischen 8 und 14 Jahren können in einer lebendigen Geschichtenwerkstatt ihrer Fantasie freien Lauf lassen. Gemeinsam mit der Schriftstellerin Jana Engels erfinden wir spannende Figuren\, überraschende Wendungen und kleine Abenteuer – und verwandeln diese Geschichten anschließend in kurze Drehbücher.\nMit viel Spaß\, Teamgeist und einer Portion Mut zum Ausprobieren setzen wir unsere Ideen in kleine Kurzfilme um. Zwischendurch sorgen kurze Spiele für Bewegung\, Abwechslung und gute Stimmung. Langweilig wird es garantiert nicht.\nAm letzten Tag feiern wir eine gemütliche Abschlussrunde\, in der die Teilnehmenden ihre Geschichten und Mini-Filme Freunden und Familien präsentieren dürfen. \nMitzubringen: Schreibutensilien\, etwas Verpflegung nach Bedarf – und natürlich gute Laune! \nWir treffen uns an fünf Vormittagen von jeweils 10 – 13 Uhr. \nAnmeldungen an: touristinfo@blankenheim.de oder 02449 87 223
URL:https://jana-engels.de/event/geschichten-lebendig-werden-lassen-schreibwerkstatt-in-den-herbstferien-4-6/
LOCATION:Gemeindebücherei Blankenheim\, Ahrstraße 67\, Blankenheim\, 53945
CATEGORIES:Lese- und Literaturpädagogik,Schreibwerkstatt
ATTACH;FMTTYPE=image/png:https://jana-engels.de/wp-content/uploads/2026/02/Folie5.png
ORGANIZER;CN="Gemeinde Blankenheim":MAILTO:touristinfo@blankenheim.de
END:VEVENT
BEGIN:VEVENT
DTSTART;TZID=Europe/Berlin:20261024T153000
DTEND;TZID=Europe/Berlin:20261024T170000
DTSTAMP:20260423T134427
CREATED:20260210T112557Z
LAST-MODIFIED:20260211T093045Z
UID:4114-1792855800-1792861200@jana-engels.de
SUMMARY:Geschichten lebendig werden lassen - Schreibwerkstatt in den Herbstferien (6/6)
DESCRIPTION:Abschlussveranstaltung \nIn den Herbstferien lädt die Gemeinde Blankenheim zu einem fröhlichen und kreativen Ferienangebot ein. Kinder und Jugendliche zwischen 8 und 14 Jahren können in einer lebendigen Geschichtenwerkstatt ihrer Fantasie freien Lauf lassen. Gemeinsam mit der Schriftstellerin Jana Engels erfinden wir spannende Figuren\, überraschende Wendungen und kleine Abenteuer – und verwandeln diese Geschichten anschließend in kurze Drehbücher.\nMit viel Spaß\, Teamgeist und einer Portion Mut zum Ausprobieren setzen wir unsere Ideen in kleine Kurzfilme um. Zwischendurch sorgen kurze Spiele für Bewegung\, Abwechslung und gute Stimmung. Langweilig wird es garantiert nicht.\nAm letzten Tag feiern wir eine gemütliche Abschlussrunde\, in der die Teilnehmenden ihre Geschichten und Mini-Filme Freunden und Familien präsentieren dürfen. \nMitzubringen: Schreibutensilien\, etwas Verpflegung nach Bedarf – und natürlich gute Laune! \nWir treffen uns an fünf Vormittagen von jeweils 10 – 13 Uhr. \nAnmeldungen an: touristinfo@blankenheim.de oder 02449 87 223
URL:https://jana-engels.de/event/geschichten-lebendig-werden-lassen-schreibwerkstatt-in-den-herbstferien-6-6/
LOCATION:Gemeindebücherei Blankenheim\, Ahrstraße 67\, Blankenheim\, 53945
CATEGORIES:Lese- und Literaturpädagogik,Schreibwerkstatt
ATTACH;FMTTYPE=image/png:https://jana-engels.de/wp-content/uploads/2026/02/Folie5.png
ORGANIZER;CN="Gemeinde Blankenheim":MAILTO:touristinfo@blankenheim.de
END:VEVENT
BEGIN:VEVENT
DTSTART;TZID=Europe/Berlin:20261106T140000
DTEND;TZID=Europe/Berlin:20261108T150000
DTSTAMP:20260423T134427
CREATED:20260304T190859Z
LAST-MODIFIED:20260304T190859Z
UID:4161-1793973600-1794150000@jana-engels.de
SUMMARY:Tagung "Literatur braucht Raum!"
DESCRIPTION:Akademie der Kulturellen Bildung\, Remscheid \nLesekompetenz ist maßgeblich für gesellschaftliche Teilhabe und damit für die Zukunft der Demokratie. Die Befunde aktueller Studien hingegen zeichnen ein düsteres Bild: Jedes vierte Kind kann am Ende der Grundschulzeit nicht sinnentnehmend lesen. Dies ist nicht nur hinsichtlich mangelnder Chancengerechtigkeit inakzeptabel; auch auf volkswirtschaftlicher Ebene entstehen dadurch enorme Folgekosten. \nEs muss also darum gehen\, das Recht auf Bildung zu stärken: Fächerübergreifend und über die gesamte Kindheit und alle Lebensbereiche hinweg. Kurzum: Es braucht Raum und auch Zeit für die Begegnung mit Büchern. Denn Literatur fächert faszinierende Welten auf\, eröffnet neue Perspektiven auf die Wirklichkeit und bringt Menschen miteinander ins Gespräch. \nDie Tagung lotet aus\, wo und wie eine lebendige Lesekultur für junge Menschen Realität werden kann – sei es analog oder digital. Forschungsergebnisse\, Modellvorhaben und Erfahrungen aus der Praxis fließen gleichermaßen in das Tagungsprogramm ein. \nEine Kooperationsveranstaltung des Arbeitskreises für Jugendliteratur und der Akademie der Kulturellen Bildung. \nWeitere Informationen gibt es hier.\nhttps://www.jugendliteratur.org/veranstaltung/akj-herbstseminar-2026-1470/?page_id=1
URL:https://jana-engels.de/event/tagung-literatur-braucht-raum/
CATEGORIES:Tagung
ATTACH;FMTTYPE=image/png:https://jana-engels.de/wp-content/uploads/2026/03/LiteraturBrauchtRaum.png
END:VEVENT
BEGIN:VEVENT
DTSTART;VALUE=DATE:20261121
DTEND;VALUE=DATE:20261123
DTSTAMP:20260423T134427
CREATED:20260118T192900Z
LAST-MODIFIED:20260118T193905Z
UID:4055-1795219200-1795391999@jana-engels.de
SUMMARY:Eifeler Buchmesse in Nettersheim
DESCRIPTION:Ich bin mit meinen Büchern vor Ort und gemeinsam mit Bodo Ziemainz auch für unseren Podcast Reizklima Eifel. Die Messe präsentiert eine große Bandbreite regionaler und genreübergreifender Publikationen\, mehr als 20 Verlage sowie ein vielfältiges Leseprogramm.\nWeitere Infos folgen…
URL:https://jana-engels.de/event/eifeler-buchmesse-2026/
LOCATION:Nettersheim
CATEGORIES:Buchmesse
ATTACH;FMTTYPE=image/png:https://jana-engels.de/wp-content/uploads/2022/02/ReizklimaEifelLogo_300.png
END:VEVENT
BEGIN:VEVENT
DTSTART;TZID=Europe/Berlin:20261204T184500
DTEND;TZID=Europe/Berlin:20261204T203000
DTSTAMP:20260423T134427
CREATED:20260118T194318Z
LAST-MODIFIED:20260118T194451Z
UID:4082-1796409900-1796416200@jana-engels.de
SUMMARY:Lesung: "Verschneit und verliebt"
DESCRIPTION:Ein folgenschwerer Schneesturm – und ein charmanter Retter \n\n\n\nDie weihnachtliche Feel-Good-Romance mit Humor und Herz \nDen gemeinsamen Luxusurlaub zu Weihnachten hatte sich die verliebte Inga vollkommen anders vorgestellt: Statt romantischer Tage in der Skihütte erwischt sie ihren Freund Marlon in flagranti. Hals über Kopf flüchtet sie mit seinem Wagen zu ihren Eltern. Doch das Schicksal hat andere Pläne: In einem heftigen Schneesturm kommt sie von der Straße ab. Der charmante Julius\, der in den Unfall verwickelt wird\, könnte allerdings ihr Retter in der Not sein. Er lädt die erschöpfte Inga in die gemütliche Pension seiner Familie ein\, wo sie herzlich aufgenommen wird. Schon bald knistert es zwischen den beiden und das Gefühlschaos ist perfekt. Julius scheint jedoch mit eigenen Sorgen belastet zu sein … Hält das Schneechaos das nächste Unglück für Inga bereit oder wird aus den neuen Gefühlen endlich das große Feuerwerk? \nFreitag\, 04.12.26\, 18:45 Uhr Lesung im Dreifachwerk\, Euskirchen\nWinter-Weihnachts-Romantik „Verschneit und verliebt“\nKartenvorverkauf im dreifachwerk.de\nSelmenstraße 17\, 53881 Euskirchen-Stotzheim \n 
URL:https://jana-engels.de/event/lesung-verschneit-und-verliebt/
LOCATION:Dreifachwerk\, Selmenstraße 17\, 53881 Euskirchen-Stotzheim\, Nordrhein-Westfalen\, Germany
CATEGORIES:Lesung
ATTACH;FMTTYPE=image/jpeg:https://jana-engels.de/wp-content/uploads/2024/10/9783989983618_Website.jpg
ORGANIZER;CN="Dreifachwerk":MAILTO:info@dreifachwerk.de
END:VEVENT
END:VCALENDAR